BEGIN:VCALENDAR
VERSION:2.0
PRODID:-//CENTRAL ENGLISH SCHOOL AHMEDABAD - ECPv6.3.1//NONSGML v1.0//EN
CALSCALE:GREGORIAN
METHOD:PUBLISH
X-WR-CALNAME:CENTRAL ENGLISH SCHOOL AHMEDABAD
X-ORIGINAL-URL:https://centralenglishschool.in
X-WR-CALDESC:Events for CENTRAL ENGLISH SCHOOL AHMEDABAD
REFRESH-INTERVAL;VALUE=DURATION:PT1H
X-Robots-Tag:noindex
X-PUBLISHED-TTL:PT1H
BEGIN:VTIMEZONE
TZID:UTC
BEGIN:STANDARD
TZOFFSETFROM:+0000
TZOFFSETTO:+0000
TZNAME:UTC
DTSTART:20240101T000000
END:STANDARD
END:VTIMEZONE
BEGIN:VEVENT
DTSTART;VALUE=DATE:20240809
DTEND;VALUE=DATE:20240810
DTSTAMP:20260421T212138
CREATED:20240208T112410Z
LAST-MODIFIED:20240208T112410Z
UID:14314-1723161600-1723247999@centralenglishschool.in
SUMMARY:Medical Camp
DESCRIPTION:
URL:https://centralenglishschool.in/event/medical-camp/
END:VEVENT
BEGIN:VEVENT
DTSTART;VALUE=DATE:20240905
DTEND;VALUE=DATE:20240906
DTSTAMP:20260421T212138
CREATED:20240208T112531Z
LAST-MODIFIED:20240208T112531Z
UID:14316-1725494400-1725580799@centralenglishschool.in
SUMMARY:Teachers' Day
DESCRIPTION:
URL:https://centralenglishschool.in/event/teachers-day/
END:VEVENT
BEGIN:VEVENT
DTSTART;VALUE=DATE:20241017
DTEND;VALUE=DATE:20241018
DTSTAMP:20260421T212138
CREATED:20240208T112734Z
LAST-MODIFIED:20240208T112734Z
UID:14318-1729123200-1729209599@centralenglishschool.in
SUMMARY:Essay Competition
DESCRIPTION:
URL:https://centralenglishschool.in/event/essay-competition/
END:VEVENT
BEGIN:VEVENT
DTSTART;VALUE=DATE:20241108
DTEND;VALUE=DATE:20241109
DTSTAMP:20260421T212138
CREATED:20240208T112922Z
LAST-MODIFIED:20240208T112922Z
UID:14320-1731024000-1731110399@centralenglishschool.in
SUMMARY:Oratory Competition
DESCRIPTION:
URL:https://centralenglishschool.in/event/oratory-competition/
END:VEVENT
END:VCALENDAR