BEGIN:VCALENDAR
VERSION:2.0
PRODID:-//CENTRAL ENGLISH SCHOOL AHMEDABAD - ECPv6.3.1//NONSGML v1.0//EN
CALSCALE:GREGORIAN
METHOD:PUBLISH
X-ORIGINAL-URL:https://centralenglishschool.in
X-WR-CALDESC:Events for CENTRAL ENGLISH SCHOOL AHMEDABAD
REFRESH-INTERVAL;VALUE=DURATION:PT1H
X-Robots-Tag:noindex
X-PUBLISHED-TTL:PT1H
BEGIN:VTIMEZONE
TZID:UTC
BEGIN:STANDARD
TZOFFSETFROM:+0000
TZOFFSETTO:+0000
TZNAME:UTC
DTSTART:20240101T000000
END:STANDARD
END:VTIMEZONE
BEGIN:VEVENT
DTSTART;VALUE=DATE:20240422
DTEND;VALUE=DATE:20240423
DTSTAMP:20260422T001053
CREATED:20240208T111850Z
LAST-MODIFIED:20240208T112149Z
UID:14312-1713744000-1713830399@centralenglishschool.in
SUMMARY:Tree Plantation
DESCRIPTION:
URL:https://centralenglishschool.in/event/tree-plantation/
END:VEVENT
END:VCALENDAR